BEGIN:VCALENDAR
VERSION:2.0
PRODID:-//Library Market//iCal Export//EN
BEGIN:VEVENT
SUMMARY:Summer Reading Kickoff Party!
UID:14437
DTSTAMP:20260426T021000Z
DTSTART:20260606T190000Z
DTEND:20260606T220000Z
LOCATION:Monrovia Public Library, 321 S. Myrtle Ave, Monrovia, CA 91016, U
 nited States
ROOM: Library-Wide
DESCRIPTION:Join us as we kick off Summer Reading! We will have arts and c
 rafts, lawn games, video games, inflatables, a bubble dance party, a giant
  maze &amp; more! Saturday, June 6th from 12pm-3pm ALL AGES! 
URL:https://monrovialibrary.librarymarket.com/event/summer-reading-kickoff
 -party-14437
END:VEVENT
END:VCALENDAR
