BEGIN:VCALENDAR
VERSION:2.0
PRODID:-//Library Market//iCal Export//EN
BEGIN:VEVENT
SUMMARY:Amped Up: Trivia &amp; Karaoke
UID:14079
DTSTAMP:20260424T182300Z
DTSTART:20260829T210000Z
DTEND:20260829T223000Z
LOCATION:Monrovia Public Library, 321 S. Myrtle Ave, Monrovia, CA 91016, U
 nited States
ROOM: Community Room
DESCRIPTION:Do you like music?  Do you like to sing?  Do you want to sin
 g your praises over how much music trivia you know?  If so, please join u
 s for our Amped Up: Trivia &amp; Karaoke.  We&#039;ll break out the snack
 s and start with the trivia, then end with some singing. 
URL:https://monrovialibrary.librarymarket.com/index.php/event/amped-trivia
 -karaoke-14079
END:VEVENT
END:VCALENDAR
